BEGIN:VCALENDAR
VERSION:2.0
METHOD:PUBLISH
BEGIN:VEVENT
DTSTAMP:20260420T074504Z
DTSTART:20230422T123000Z
DTEND:20230422T123000Z
SUMMARY:Mayors' Keep the County Clean Challenge
LOCATION:Port Hope, Ontario
END:VEVENT
END:VCALENDAR
