BEGIN:VCALENDAR
VERSION:2.0
METHOD:PUBLISH
BEGIN:VEVENT
DTSTAMP:20260420T151058Z
DTSTART:20241026T210000Z
DTEND:20241027T000000Z
SUMMARY:Ghouly Goat Spooktacular
LOCATION:1166 5th Line, Newtonville, Ontario, L0A 1J0
END:VEVENT
END:VCALENDAR
