BEGIN:VCALENDAR
VERSION:2.0
METHOD:PUBLISH
BEGIN:VEVENT
DTSTAMP:20260422T105654Z
DTSTART:20260401T170000Z
DTEND:20260401T180000Z
SUMMARY:Ukrainian Meet Up
LOCATION:31 Queen St. Port Hope
END:VEVENT
END:VCALENDAR
