BEGIN:VCALENDAR
VERSION:2.0
METHOD:PUBLISH
BEGIN:VEVENT
DTSTAMP:20260422T091801Z
DTSTART:20260407T170000Z
DTEND:20260407T180000Z
SUMMARY:Homeschool Group
LOCATION:31 Queen St. Port Hope
END:VEVENT
END:VCALENDAR
