BEGIN:VCALENDAR
VERSION:2.0
METHOD:PUBLISH
BEGIN:VEVENT
DTSTAMP:20260422T093055Z
DTSTART:20260413T150000Z
DTEND:20260413T160000Z
SUMMARY:Baby Time at PHPL!
LOCATION:31 Queen Street, Port Hope
END:VEVENT
END:VCALENDAR
