BEGIN:VCALENDAR
VERSION:2.0
METHOD:PUBLISH
BEGIN:VEVENT
DTSTAMP:20260421T004754Z
DTSTART:20260423T190000Z
DTEND:20260423T210000Z
SUMMARY:Special Council Meeting for the Purposes of Proceeding into a Closed Session
END:VEVENT
END:VCALENDAR
