BEGIN:VCALENDAR
VERSION:2.0
METHOD:PUBLISH
BEGIN:VEVENT
DTSTAMP:20260422T091644Z
DTSTART:20260427T180000Z
DTEND:20260427T193000Z
SUMMARY:Unfinished Stitchery
LOCATION:31 Queen St. Port Hope
END:VEVENT
END:VCALENDAR
