BEGIN:VCALENDAR
VERSION:2.0
METHOD:PUBLISH
BEGIN:VEVENT
DTSTAMP:20260422T222600Z
DTSTART:20260501T040000Z
DTEND:20260501T040000Z
SUMMARY:Asian Heritage Month / Jewish Heritage Month / Dutch Heritage Month / Polish Heritage Month
END:VEVENT
END:VCALENDAR
