BEGIN:VCALENDAR
VERSION:2.0
METHOD:PUBLISH
BEGIN:VEVENT
DTSTAMP:20260422T122522Z
DTSTART:20260504T180000Z
DTEND:20260504T193000Z
SUMMARY:Unfinished Stitchery
LOCATION:31 Queen St. Port Hope
END:VEVENT
END:VCALENDAR
