BEGIN:VCALENDAR
VERSION:2.0
METHOD:PUBLISH
BEGIN:VEVENT
DTSTAMP:20260422T105359Z
DTSTART:20260505T170000Z
DTEND:20260505T180000Z
SUMMARY:Homeschool Group
LOCATION:31 Queen St. Port Hope
END:VEVENT
END:VCALENDAR
