BEGIN:VCALENDAR
VERSION:2.0
METHOD:PUBLISH
BEGIN:VEVENT
DTSTAMP:20260421T140235Z
DTSTART:20260506T143000Z
DTEND:20260506T153000Z
SUMMARY:Toddlers and Waddlers with EarlyON
LOCATION:31 Queen Street, port hope
END:VEVENT
END:VCALENDAR
