BEGIN:VCALENDAR
VERSION:2.0
METHOD:PUBLISH
BEGIN:VEVENT
DTSTAMP:20260422T105052Z
DTSTART:20260511T180000Z
DTEND:20260511T193000Z
SUMMARY:Unfinished Stitchery
LOCATION:31 Queen St. Port Hope
END:VEVENT
END:VCALENDAR
