BEGIN:VCALENDAR
VERSION:2.0
METHOD:PUBLISH
BEGIN:VEVENT
DTSTAMP:20260420T142004Z
DTSTART:20260514T210000Z
DTEND:20260514T223000Z
SUMMARY:Accessibility Advisory Committee
END:VEVENT
END:VCALENDAR
