BEGIN:VCALENDAR
VERSION:2.0
METHOD:PUBLISH
BEGIN:VEVENT
DTSTAMP:20260421T152609Z
DTSTART:20260527T143000Z
DTEND:20260527T153000Z
SUMMARY:Toddlers and Waddlers with EarlyON
LOCATION:31 Queen Street, port hope
END:VEVENT
END:VCALENDAR
