BEGIN:VCALENDAR
VERSION:2.0
METHOD:PUBLISH
BEGIN:VEVENT
DTSTAMP:20260421T153600Z
DTSTART:20260603T143000Z
DTEND:20260603T153000Z
SUMMARY:Toddlers and Waddlers with EarlyON
LOCATION:31 Queen Street, port hope
END:VEVENT
END:VCALENDAR
