BEGIN:VCALENDAR
VERSION:2.0
METHOD:PUBLISH
BEGIN:VEVENT
DTSTAMP:20260421T165911Z
DTSTART:20260610T143000Z
DTEND:20260610T153000Z
SUMMARY:Toddlers and Waddlers with EarlyON
LOCATION:31 Queen Street, port hope
END:VEVENT
END:VCALENDAR
