BEGIN:VCALENDAR
VERSION:2.0
METHOD:PUBLISH
BEGIN:VEVENT
DTSTAMP:20260420T141657Z
DTSTART:20260611T210000Z
DTEND:20260611T223000Z
SUMMARY:Accessibility Advisory Committee
END:VEVENT
END:VCALENDAR
