BEGIN:VCALENDAR
VERSION:2.0
METHOD:PUBLISH
BEGIN:VEVENT
DTSTAMP:20260420T142812Z
DTSTART:20260910T210000Z
DTEND:20260910T223000Z
SUMMARY:Accessibility Advisory Committee
END:VEVENT
END:VCALENDAR
