BEGIN:VCALENDAR
VERSION:2.0
METHOD:PUBLISH
BEGIN:VEVENT
DTSTAMP:20260420T142843Z
DTSTART:20261112T220000Z
DTEND:20261112T233000Z
SUMMARY:Accessibility Advisory Committee
END:VEVENT
END:VCALENDAR
