BEGIN:VCALENDAR
VERSION:2.0
METHOD:PUBLISH
BEGIN:VEVENT
DTSTAMP:20260425T102439Z
DTSTART:20260501T123000Z
DTEND:20260501T123000Z
SUMMARY:Beginning of Nomination Period
LOCATION:56 Queen Street, Port Hope, ON L1A 3Z9
END:VEVENT
END:VCALENDAR
