BEGIN:VCALENDAR
VERSION:2.0
METHOD:PUBLISH
BEGIN:VEVENT
DTSTAMP:20260422T165212Z
DTSTART:20240907T140000Z
DTEND:20240907T183000Z
SUMMARY:81 Walton St. Stage Grand Opening
LOCATION:81 Walton St, port hope
END:VEVENT
END:VCALENDAR
