BEGIN:VCALENDAR
VERSION:2.0
METHOD:PUBLISH
BEGIN:VEVENT
DTSTAMP:20260423T191907Z
DTSTART:20210721T223000Z
DTEND:20210722T000000Z
SUMMARY:Parks, Recreation and Culture Advisory Committee
END:VEVENT
END:VCALENDAR
