BEGIN:VCALENDAR
VERSION:2.0
METHOD:PUBLISH
BEGIN:VEVENT
DTSTAMP:20260423T174440Z
DTSTART:20210915T223000Z
DTEND:20210916T000000Z
SUMMARY:Parks, Recreation and Culture Advisory Committee
END:VEVENT
END:VCALENDAR
