BEGIN:VCALENDAR
VERSION:2.0
METHOD:PUBLISH
BEGIN:VEVENT
DTSTAMP:20260420T143050Z
DTSTART:20260424T173000Z
DTEND:20260424T200000Z
SUMMARY:Lane Swim
LOCATION:60 Highland Drive, Port Hope
END:VEVENT
END:VCALENDAR
