BEGIN:VCALENDAR
VERSION:2.0
METHOD:PUBLISH
BEGIN:VEVENT
DTSTAMP:20260420T155704Z
DTSTART:20260529T173000Z
DTEND:20260529T200000Z
SUMMARY:Lane Swim
LOCATION:60 Highland Drive, Port Hope
END:VEVENT
END:VCALENDAR
