BEGIN:VCALENDAR
VERSION:2.0
METHOD:PUBLISH
BEGIN:VEVENT
DTSTAMP:20260421T045737Z
DTSTART:20250622T170000Z
DTEND:20250622T193000Z
SUMMARY:Waitress The Musical
LOCATION:20 Queen Street Port Hope, ON Canada L1A 2Y7
END:VEVENT
END:VCALENDAR
