BEGIN:VCALENDAR
VERSION:2.0
METHOD:PUBLISH
BEGIN:VEVENT
DTSTAMP:20260423T154009Z
DTSTART:20250803T120000Z
DTEND:20250804T000000Z
SUMMARY:Friends for Life Bike Rally
LOCATION:163 Queen Street East, 2nd Floor, Toronto, Ontario, M5A 1S1
END:VEVENT
END:VCALENDAR
