BEGIN:VCALENDAR
VERSION:2.0
METHOD:PUBLISH
BEGIN:VEVENT
DTSTAMP:20260419T160210Z
DTSTART:20251229T003000Z
DTEND:20251229T023000Z
SUMMARY:Hansel and Gretel: The Sticky and Sweet Panto
LOCATION:20 Queen Street, port hope
END:VEVENT
END:VCALENDAR
